Workbook
Name I: #REF!
Name 인보이스: #REF!
Name ㅑ: #REF!

Sheet Invoice
A1: COMMERCIAL INVOICE
A2: 1.Shipper/Exporter | F2: 8.No & date of invoice
A3: FUYU PRECISION COMPONENT CO.,LTD. | F3: 1297621 | J3: 45274
A4: Lot M1, Lot F & Lot T1, Quang Chau Industrial Park, Van Trung Commune, | F4: 9.No & date of L/C
A5: Viet Yen District, Bac Giang Province, Vietnam | F5: None
A6: Roisy Liang / Email : roisy.sh.liang@fii-foxconn.com | F6: 10.L/C issuing bank
A7: Mobile : +84 398900093
A8: 2.For Account & Risk of Messrs. | F8: None
A9: ALT Co., Ltd. | F9: 11.Remarks
A10: 12F,8, Seongnam-daero 331 beon-gil, bundang-gu, seongnam-si, gyeonggi-do | F10: * Complete repair process-restocked to customer.
A11: Republic of Korea (ZIP CODE : 13558) | F11: ( RMA / F.O.C )
A12: Tel.: +82-10-4782-1103 / Fax : +82-31-605-8401
A13: 3. Consignee
A14: Same as above
A18: 4.Port of loading | E18: 5.Final of destination
A19: Hai Phong, Viet Nam | E19: Incheon
A21: 6.Carrier | E21: 7.Sailing on or about
H22: DAP KOREA
A23: 12.Marks & Numbers pkgs | E23: 13.Description of goods | F23: 14.Origin | G23: 15.Quantity/Unit | J23: 16. Unit price | L23: 17. Amount
E24: BFX-AT100 | F24: VN | G24: 1125 | J24: 58.28 | L24: =J24*G24 -> 65565
A25: PALLET 1 | E25: PN : T99X171.00
E27: BFX-AT100 | F27: VN | G27: 1680 | J27: 58.28 | L27: =J27*G27 -> 97910.4
A28: PALLET 2 | E28: PN : T99X171.00
E30: BFX-AT100 | F30: VN | G30: 1680 | J30: 58.28 | L30: =J30*G30 -> 97910.4
A31: PALLET 3 | E31: PN : T99X171.00
E33: BFX-AT100 | F33: VN | G33: 1680 | J33: 58.28 | L33: =J33*G33 -> 97910.4
A34: PALLET 4 | E34: PN : T99X171.00
E36: BFX-AT100 | F36: VN | G36: 1680 | J36: 58.28 | L36: =J36*G36 -> 97910.4
A37: PALLET 5 | E37: PN : T99X171.00
E39: BFX-AT100 | F39: VN | G39: 1680 | J39: 58.28 | L39: =J39*G39 -> 97910.4
A40: PALLET 6 | E40: PN : T99X171.00
E42: BFX-AT100 | F42: VN | G42: 462 | J42: 58.28 | L42: =J42*G42 -> 26925.36
A43: PALLET 7 | E43: PN : T99X171.00
E45: BFX-AT100 | F45: VN | G45: 1680 | J45: 58.28 | L45: =J45*G45 -> 97910.4
A46: PALLET 8 | E46: PN : T99X171.00
E48: BFX-AT100 | F48: VN | G48: 1680 | J48: 58.28 | L48: =J48*G48 -> 97910.4
A49: PALLET 9 | E49: PN : T99X171.00
E51: BFX-AT100 | F51: VN | G51: 989 | J51: 58.28 | L51: =J51*G51 -> 57638.92
A52: PALLET 10 | E52: PN : T99X171.00
E54: TOTAL | G54: =SUM(G24:G53) -> 14336 | L54: =SUM(L24:L53) -> 835502.08
E64: Signed by | F64: Fuyu Precision Component Co.,Ltd

Sheet PackingList
A1: PACKING LIST
A2: 1.Shipper/Exporter | F2: 8.No & date of invoice
A3: =[1]Invoice!A3 -> FUYU PRECISION COMPONENT CO.,LTD. | F3: =+Invoice!F3 -> 1297621 | H3: =+Invoice!J3 -> 45274
A4: =+Invoice!A4 -> Lot M1, Lot F & Lot T1, Quang Chau Industrial Park, Van Trung Commune, | F4: 9.No & date of L/C
A5: =[1]Invoice!A5 -> Viet Yen District, Bac Giang Province, Vietnam
A6: =[1]Invoice!A6 -> Roisy Liang / Email : roisy.sh.liang@fii-foxconn.com
A7: =[1]Invoice!A7 -> Mobile : +84 398900093
A8: 2.For Account & Risk of Messrs. | F8: 10.L/C issuing bank
A9: =[1]Invoice!A9 -> ALT Co., Ltd.
A10: =+Invoice!A10 -> 12F,8, Seongnam-daero 331 beon-gil, bundang-gu, seongnam-si, gyeonggi-do | F10: 11.Remarks
A11: +Invoice!A11 | F11: =[1]Invoice!F10 -> * Complete repair process-restocked to customer.
A12: =+Invoice!A12 -> Tel.: +82-10-4782-1103 / Fax : +82-31-605-8401 | F12: =[1]Invoice!F11 -> ( RMA / F.O.C )
A13: 3.Notify party | F13: SEAL NO : 별지 참고
A14: Same as above
A18: 4.Port of loading | E18: 5.Final of destination
A19: =[1]Invoice!A19 -> Hai Phong, Viet Nam | E19: =[1]Invoice!E19 -> Incheon
A21: 6.Carrier | E21: 7.Sailing on or about
A23: 12.Marks and Numbers | E23: 13.Description of goods | F23: 14.Q'ty/Unit | G23: 15.Net weight | I23: 16.Gross weight | J23: 17.Measurement
E24: BFX-AT100 | F24: 1125 | G24: 562.5 | I24: 653.5
A25: PALLET 1 | E25: PN : T99X171.00
E27: BFX-AT100 | F27: 1680 | G27: 840 | I27: 970
A28: PALLET 2 | E28: PN : T99X171.00
E30: BFX-AT100 | F30: =+Invoice!G30 -> 1680 | G30: =+G27 -> 840 | I30: 970
A31: PALLET 3 | E31: PN : T99X171.00
E33: BFX-AT100 | F33: =+Invoice!G33 -> 1680 | G33: =+G30 -> 840 | I33: 970
A34: PALLET 4 | E34: PN : T99X171.00
E36: BFX-AT100 | F36: =+Invoice!G36 -> 1680 | G36: =+G33 -> 840 | I36: 970
A37: PALLET 5 | E37: PN : T99X171.00
E39: BFX-AT100 | F39: =+Invoice!G39 -> 1680 | G39: 840 | I39: 970
A40: PALLET 6 | E40: PN : T99X171.00
E42: BFX-AT100 | F42: =+Invoice!G42 -> 462 | G42: 231 | I42: 505
A43: PALLET 7 | E43: PN : T99X171.00
E45: BFX-AT100 | F45: =+Invoice!G39 -> 1680 | G45: 840 | I45: 970
A46: PALLET 8 | E46: PN : T99X171.00
E48: BFX-AT100 | F48: =+Invoice!G48 -> 1680 | G48: 840 | I48: 970
A49: PALLET 9 | E49: PN : T99X171.00
E51: BFX-AT100 | F51: =+Invoice!G51 -> 989 | G51: =+F51*0.5 -> 494.5 | I51: 1071
A52: PALLET 10 | E52: PN : T99X171.00
E54: TOTAL | F54: =SUM(F24:F53) -> 14336 | G54: =SUM(G24:H53) -> 7168 | H54: KG | I54: =SUM(I24:I53) -> 9019.5 | J54: 10
A56: ** SN 별지 참고 **
F64: Signed by | G64: Fuyu Precision Component Co.,Ltd

Sheet Pallet 1- 1125pcs
A1: SERIAL_NUMBER | B1: SHIPPING SN | C1: DN | D1: CARTON_NO | E1: PALLET_NO | F1: Lot#
A2: 1CBFC0125C02 | B2: 2149688001202003076923 | C2: 5440100279 | D2: UCT231009037 | E2: UPL231212007 | F2: 6&7
A3: 1CBFC0122CCC | B3: 2149688001202003061746 | C3: 5440100279 | D3: UCT231009037 | E3: UPL231212007 | F3: 6&7
A4: 1CBFC0123008 | B4: 2149688001202003066520 | C4: 5440100279 | D4: UCT231009037 | E4: UPL231212007 | F4: 6&7
A5: E86F385320CC | B5: 2149688001201909098282 | C5: 5440100279 | D5: UCT231009037 | E5: UPL231212007 | F5: 6&7
A6: 1CBFC01238FE | B6: 2149688001202003065384 | C6: 5440100279 | D6: UCT231009041 | E6: UPL231212007 | F6: 6&7
A7: E86F3853512D | B7: 2149688001201909108777 | C7: 5440100279 | D7: UCT231009041 | E7: UPL231212007 | F7: 6&7
A8: E86F38531A98 | B8: 2149688001201909092426 | C8: 5440100279 | D8: UCT231009037 | E8: UPL231212007 | F8: 6&7
A9: E86F38534153 | B9: 2149688001201909105420 | C9: 5440100279 | D9: UCT231009037 | E9: UPL231212007 | F9: 6&7
A10: E86F38535329 | B10: 2149688001201909108115 | C10: 5440100279 | D10: UCT231009037 | E10: UPL231212007 | F10: 6&7
A11: E86F38533616 | B11: 2149688001201909101797 | C11: 5440100279 | D11: UCT231010018 | E11: UPL231212007 | F11: 6&7
A12: 1CBFC01245F5 | B12: 2149688001202003072422 | C12: 5440100279 | D12: UCT231010003 | E12: UPL231212007 | F12: 6&7
A13: E86F385326F4 | B13: 2149688001201909095925 | C13: 5440100279 | D13: UCT231009041 | E13: UPL231212007 | F13: 6&7
... A116: 28CDC4FA5327 | B116: 2149688001202101110347 | C116: 5440100279 | D116: UCT231009036 | E116: UPL231212007 | F116: 6&7
A117: 4CEBBD1E5440 | B117: 2149688001202001009907 | C117: 5440100279 | D117: UCT231031040 | E117: UPL231212007 | F117: 10
A118: 405BD8E2EAD0 | B118: 2149688001201909080800 | C118: 5440100279 | D118: UCT231031040 | E118: UPL231212007 | F118: 10
A119: E86F3853403E | B119: 2149688001201909109748 | C119: 5440100279 | D119: UCT231031040 | E119: UPL231212007 | F119: 10
A120: 4CEBBDB07778 | B120: 2149688001202001045441 | C120: 5440100279 | D120: UCT231031040 | E120: UPL231212007 | F120: 10
A121: 402343CD4555 | B121: 2149688001201908041902 | C121: 5440100279 | D121: UCT231031040 | E121: UPL231212007 | F121: 10
A122: 405BD8AD14E4 | B122: 2149688001201909038527 | C122: 5440100279 | D122: UCT231031040 | E122: UPL231212007 | F122: 10
A123: 405BD8E2983D | B123: 2149688001201909062103 | C123: 5440100279 | D123: UCT231031040 | E123: UPL231212007 | F123: 10
A124: 4023438B8602 | B124: 2149688001201908005937 | C124: 5440100279 | D124: UCT231031040 | E124: UPL231212007 | F124: 10
A125: 405BD8AD3B53 | B125: 2149688001201909047746 | C125: 5440100279 | D125: UCT231031040 | E125: UPL231212007 | F125: 10
A126: 405BD8E2DB86 | B126: 2149688001201909077086 | C126: 5440100279 | D126: UCT231031040 | E126: UPL231212007 | F126: 10
A127: 405BD8AD5841 | B127: 2149688001201909054757 | C127: 5440100279 | D127: UCT231031040 | E127: UPL231212007 | F127: 10
A128: 405BD86D578C | B128: 2149688001201909015728 | C128: 5440100279 | D128: UCT231031040 | E128: UPL231212007 | F128: 10
... A1126: 28CDC4FCC79B | B1126: 2149688001202009026878 | C1126: 5440100279 | D1126: UCT231010014 | E1126: UPL231212007 | F1126: 10

Sheet Pallet 2-1680pcs
A1: SERIAL_NUMBER | B1: SHIPPING SN | C1: DN | D1: CARTON_NO | E1: PALLET_NO | F1: Lot#
A2: 1CBFC0F90543 | B2: 2149688001202005034946 | C2: 5440100280 | D2: UCT230714007 | E2: UPL231005001 | F2: 5
A3: 5C3A45D538D3 | B3: 2149688001202005055002 | C3: 5440100280 | D3: UCT230714004 | E3: UPL231005001 | F3: 5
A4: 1CBFC0F902CC | B4: 2149688001202005035478 | C4: 5440100280 | D4: UCT230714007 | E4: UPL231005001 | F4: 5
A5: 28CDC4098111 | B5: 2149688001202005084907 | C5: 5440100280 | D5: UCT230714007 | E5: UPL231005001 | F5: 4
A6: 28CDC409B059 | B6: 2149688001202005095916 | C6: 5440100280 | D6: UCT230714004 | E6: UPL231005001 | F6: 5
A7: B4B5B6FE050C | B7: 2149688001202108007583 | C7: 5440100280 | D7: UCT230714004 | E7: UPL231005001 | F7: 5
A8: 5C3A45D54A60 | B8: 2149688001202005063604 | C8: 5440100280 | D8: UCT230714004 | E8: UPL231005001 | F8: 5
A9: 28CDC4FEAB92 | B9: 2149688001202101038816 | C9: 5440100280 | D9: UCT230714007 | E9: UPL231005001 | F9: 5
A10: 28CDC4FB2FB3 | B10: 2149688001202005110292 | C10: 5440100280 | D10: UCT230714007 | E10: UPL231005001 | F10: 4
A11: 5C3A45339485 | B11: 2149688001202005040275 | C11: 5440100280 | D11: UCT230714007 | E11: UPL231005001 | F11: 4
A12: 28CDC4003832 | B12: 2149688001202005073817 | C12: 5440100280 | D12: UCT230714007 | E12: UPL231005001 | F12: 5
A13: 28CDC4097816 | B13: 2149688001202005080232 | C13: 5440100280 | D13: UCT230714007 | E13: UPL231005001 | F13: 5
... A127: 40234355DDD1 | B127: 2149688001201908002239 | C127: 5440100280 | D127: UCT230826025 | E127: UPL231005001 | F127: 5
A128: 402343E07DD4 | B128: 2149688001201908046891 | C128: 5440100280 | D128: UCT231005025 | E128: UPL231005001 | F128: 6&7
A129: 405BD8E2B8C6 | B129: 2149688001201909072279 | C129: 5440100280 | D129: UCT231005026 | E129: UPL231005001 | F129: 6&7
A130: 402343CD1EE6 | B130: 2149688001201908031796 | C130: 5440100280 | D130: UCT231005026 | E130: UPL231005001 | F130: 6&7
A131: 405BD82499D7 | B131: 2149688001201908089691 | C131: 5440100280 | D131: UCT231005027 | E131: UPL231005001 | F131: 6&7
A132: 4023432A8E8B | B132: 2149688001201904048407 | C132: 5440100280 | D132: UCT231005025 | E132: UPL231005001 | F132: 6&7
A133: 405BD86D1832 | B133: 2149688001201909012077 | C133: 5440100280 | D133: UCT231005025 | E133: UPL231005001 | F133: 6&7
A134: 402343E098EB | B134: 2149688001201908056416 | C134: 5440100280 | D134: UCT231005025 | E134: UPL231005001 | F134: 6&7
A135: 405BD86D4E0F | B135: 2149688001201909020132 | C135: 5440100280 | D135: UCT231005027 | E135: UPL231005001 | F135: 6&7
A136: 4023438BB179 | B136: 2149688001201908013837 | C136: 5440100280 | D136: UCT231005025 | E136: UPL231005001 | F136: 6&7
A137: 402343E07B16 | B137: 2149688001201908047570 | C137: 5440100280 | D137: UCT231005025 | E137: UPL231005001 | F137: 6&7
A138: 8CC84B0AEEC3 | B138: 2149688001202001102888 | C138: 5440100280 | D138: UCT231005028 | E138: UPL231005001 | F138: 6&7
A139: B068E6C31D96 | B139: 2149688001201904007884 | C139: 5440100280 | D139: UCT231005027 | E139: UPL231005001 | F139: 6&7
... A1681: 28CDC409AC4B | B1681: 2149688001202005087122 | C1681: 5440100280 | D1681: UCT230918004 | E1681: UPL231005001 | F1681: 6&7

Sheet Pallet 3- 1680pcs
A1: SERIAL_NUMBER | B1: SHIPPING SN | C1: DN | D1: CARTON_NO | E1: PALLET_NO | F1: Lot#
A2: 5C3A45D5557A | B2: 2149688001202005061545 | C2: 5440100280 | D2: UCT231005033 | E2: UPL231005002 | F2: 4
A3: B4B5B6FDE678 | B3: 2149688001202101296146 | C3: 5440100280 | D3: UCT231005033 | E3: UPL231005002 | F3: 5
A4: 28CDC4FC8829 | B4: 2149688001202009009466 | C4: 5440100280 | D4: UCT230714003 | E4: UPL231005002 | F4: 5
A5: 28CDC4FC5265 | B5: 2149688001202005189052 | C5: 5440100280 | D5: UCT230715003 | E5: UPL231005002 | F5: 5
A6: 1CBFC0F90AA6 | B6: 2149688001202005034721 | C6: 5440100280 | D6: UCT230715003 | E6: UPL231005002 | F6: 4
A7: 28CDC4FAECD5 | B7: 2149688001202101144147 | C7: 5440100280 | D7: UCT230714006 | E7: UPL231005002 | F7: 5
A8: 28CDC4FC8FDE | B8: 2149688001202009013475 | C8: 5440100280 | D8: UCT230714006 | E8: UPL231005002 | F8: 5
A9: 28CDC4FB30FD | B9: 2149688001202005114316 | C9: 5440100280 | D9: UCT230825002 | E9: UPL231005002 | F9: 5
A10: 28CDC4FCCE67 | B10: 2149688001202009027424 | C10: 5440100280 | D10: UCT230825001 | E10: UPL231005002 | F10: 5
A11: 28CDC40999D0 | B11: 2149688001202005091851 | C11: 5440100280 | D11: UCT230714003 | E11: UPL231005002 | F11: 4
A12: 5C3A4533958C | B12: 2149688001202005039541 | C12: 5440100280 | D12: UCT230825002 | E12: UPL231005002 | F12: 5
A13: 28CDC4098D36 | B13: 2149688001202005091502 | C13: 5440100280 | D13: UCT230825002 | E13: UPL231005002 | F13: 5
... A639: 405BD86D197D | B639: 2149688001201909011799 | C639: 5440100280 | D639: UCT231005045 | E639: UPL231005002 | F639: 5
A640: 8CC84B44E15B | B640: 2149688001202003000148 | C640: 5440100280 | D640: UCT231005037 | E640: UPL231005002 | F640: 6&7
A641: 402343CD105C | B641: 2149688001201908028085 | C641: 5440100280 | D641: UCT231005030 | E641: UPL231005002 | F641: 6&7
A642: 4CEBBD9BFF3B | B642: 2149688001202001020094 | C642: 5440100280 | D642: UCT231005040 | E642: UPL231005002 | F642: 6&7
A643: 4CEBBD1E5C09 | B643: 2149688001202001017197 | C643: 5440100280 | D643: UCT231005035 | E643: UPL231005002 | F643: 6&7
A644: 8CC84BBD2FE3 | B644: 2149688001202003033980 | C644: 5440100280 | D644: UCT231005035 | E644: UPL231005002 | F644: 6&7
A645: 8CC84B450509 | B645: 2149688001202003022206 | C645: 5440100280 | D645: UCT231005030 | E645: UPL231005002 | F645: 6&7
A646: 405BD8247732 | B646: 2149688001201908081849 | C646: 5440100280 | D646: UCT231005030 | E646: UPL231005002 | F646: 6&7
A647: E86F388AC658 | B647: 2149688001201909130422 | C647: 5440100280 | D647: UCT231005030 | E647: UPL231005002 | F647: 6&7
A648: 4023432A7B6B | B648: 2149688001201904043321 | C648: 5440100280 | D648: UCT231005034 | E648: UPL231005002 | F648: 6&7
A649: 405BD8E2D0EB | B649: 2149688001201909073206 | C649: 5440100280 | D649: UCT231005035 | E649: UPL231005002 | F649: 6&7
A650: 8CC84B45047A | B650: 2149688001202003021942 | C650: 5440100280 | D650: UCT231005038 | E650: UPL231005002 | F650: 6&7
A651: 405BD8AD4847 | B651: 2149688001201909048491 | C651: 5440100280 | D651: UCT231005035 | E651: UPL231005002 | F651: 6&7
... A1681: 28CDC4FB9F83 | B1681: 2149688001202005140369 | C1681: 5440100280 | D1681: UCT231005034 | E1681: UPL231005002 | F1681: 6&7

Sheet Pallet 4- 1680pcs
A1: SERIAL_NUMBER | B1: SHIPPING SN | C1: DN | D1: CARTON_NO | E1: PALLET_NO | F1: Lot#
A2: 402343CD4874 | B2: 2149688001201908039341 | C2: 5440100280 | D2: UCT231023001 | E2: UPL231031001 | F2: 5
A3: 4023438BA971 | B3: 2149688001201908009301 | C3: 5440100280 | D3: UCT231023001 | E3: UPL231031001 | F3: 5
A4: 4023432A9002 | B4: 2149688001201904048002 | C4: 5440100280 | D4: UCT231023001 | E4: UPL231031001 | F4: 5
A5: 4023432A6705 | B5: 2149688001201904038099 | C5: 5440100280 | D5: UCT231013001 | E5: UPL231031001 | F5: 5
A6: 405BD8AD4CEF | B6: 2149688001201909052056 | C6: 5440100280 | D6: UCT231013001 | E6: UPL231031001 | F6: 5
A7: 4CEBBD9BFB6D | B7: 2149688001202001028653 | C7: 5440100280 | D7: UCT231013002 | E7: UPL231031001 | F7: 5
A8: 40234355EDF1 | B8: 2149688001201908003838 | C8: 5440100280 | D8: UCT231013001 | E8: UPL231031001 | F8: 5
A9: 1CBFC012587F | B9: 2149688001202003078073 | C9: 5440100280 | D9: UCT231013001 | E9: UPL231031001 | F9: 5
A10: 4023432A8099 | B10: 2149688001201904044647 | C10: 5440100280 | D10: UCT231013002 | E10: UPL231031001 | F10: 5
A11: 405BD8246B86 | B11: 2149688001201908077793 | C11: 5440100280 | D11: UCT231013001 | E11: UPL231031001 | F11: 5
A12: ACD5648A9C78 | B12: 2149688001201904023177 | C12: 5440100280 | D12: UCT231013002 | E12: UPL231031001 | F12: 5
A13: ACD5648AA4F4 | B13: 2149688001201904025349 | C13: 5440100280 | D13: UCT231013001 | E13: UPL231031001 | F13: 5
... A58: 402343E07CD0 | B58: 2149688001201908048000 | C58: 5440100280 | D58: UCT231013002 | E58: UPL231031001 | F58: 5
A59: 1CBFC0120635 | B59: 2149688001202003053600 | C59: 5440100280 | D59: UCT231023001 | E59: UPL231031001 | F59: 6&7
A60: E86F385343E1 | B60: 2149688001201909103636 | C60: 5440100280 | D60: UCT231011001 | E60: UPL231031001 | F60: 6&7
A61: 1CBFC0124CA5 | B61: 2149688001202003070709 | C61: 5440100280 | D61: UCT231010021 | E61: UPL231031001 | F61: 6&7
A62: 1CBFC01240BE | B62: 2149688001202003073735 | C62: 5440100280 | D62: UCT231011001 | E62: UPL231031001 | F62: 6&7
A63: 1CBFC0121CFE | B63: 2149688001202003059556 | C63: 5440100280 | D63: UCT231023002 | E63: UPL231031001 | F63: 6&7
A64: E86F38532421 | B64: 2149688001201909096668 | C64: 5440100280 | D64: UCT231023002 | E64: UPL231031001 | F64: 6&7
A65: E86F38534B05 | B65: 2149688001201909107395 | C65: 5440100280 | D65: UCT231010019 | E65: UPL231031001 | F65: 6&7
A66: 1CBFC011FE28 | B66: 2149688001202003060614 | C66: 5440100280 | D66: UCT231031037 | E66: UPL231031001 | F66: 6&7
A67: E86F38531F4B | B67: 2149688001201909097734 | C67: 5440100280 | D67: UCT231023002 | E67: UPL231031001 | F67: 6&7
A68: 1CBFC0123EBE | B68: 2149688001202003074909 | C68: 5440100280 | D68: UCT231011001 | E68: UPL231031001 | F68: 6&7
A69: E86F385316B6 | B69: 2149688001201909093243 | C69: 5440100280 | D69: UCT231023001 | E69: UPL231031001 | F69: 6&7
A70: E86F38533535 | B70: 2149688001201909101961 | C70: 5440100280 | D70: UCT231010019 | E70: UPL231031001 | F70: 6&7
... A189: 28CDC4FA6E49 | B189: 2149688001202101113223 | C189: 5440100280 | D189: UCT231023002 | E189: UPL231031001 | F189: 6&7
A190: 405BD8E29A99 | B190: 2149688001201909062506 | C190: 5440100280 | D190: UCT231030016 | E190: UPL231031001 | F190: 10
A191: 402343CD3447 | B191: 2149688001201908039909 | C191: 5440100280 | D191: UCT231030016 | E191: UPL231031001 | F191: 10
A192: E86F38533133 | B192: 2149688001201909098411 | C192: 5440100280 | D192: UCT231030016 | E192: UPL231031001 | F192: 10
A193: 405BD8AD21AD | B193: 2149688001201909046371 | C193: 5440100280 | D193: UCT231031004 | E193: UPL231031001 | F193: 10
A194: 405BD8AD3617 | B194: 2149688001201909040401 | C194: 5440100280 | D194: UCT231031038 | E194: UPL231031001 | F194: 10
A195: 4023438BD1BA | B195: 2149688001201908019823 | C195: 5440100280 | D195: UCT231030016 | E195: UPL231031001 | F195: 10
A196: D81265D048FF | B196: 2149688001202001086735 | C196: 5440100280 | D196: UCT231031021 | E196: UPL231031001 | F196: 10
A197: 405BD8AD58D1 | B197: 2149688001201909055153 | C197: 5440100280 | D197: UCT231030017 | E197: UPL231031001 | F197: 10
A198: 405BD8E2AF72 | B198: 2149688001201909068320 | C198: 5440100280 | D198: UCT231030016 | E198: UPL231031001 | F198: 10
A199: 405BD8AD4066 | B199: 2149688001201909044964 | C199: 5440100280 | D199: UCT231030016 | E199: UPL231031001 | F199: 10
A200: 1CBFC0123E1E | B200: 2149688001202003075238 | C200: 5440100280 | D200: UCT231030016 | E200: UPL231031001 | F200: 10
A201: 405BD8AD3563 | B201: 2149688001201909040584 | C201: 5440100280 | D201: UCT231031014 | E201: UPL231031001 | F201: 10
... A1681: 28CDC4FC2F1F | B1681: 2149688001202005180643 | C1681: 5440100280 | D1681: UCT231023002 | E1681: UPL231031001 | F1681: 10

Sheet Pallet 5-1680pcs
A1: SERIAL_NUMBER | B1: SHIPPING SN | C1: DN | D1: CARTON_NO | E1: PALLET_NO | F1: Lot#
A2: 28CDC4FE2A7E | B2: 2149688001202101011514 | C2: 5440100281 | D2: UCT230826026 | E2: UPL230827001 | F2: 6&7
A3: 28CDC4FF0F94 | B3: 2149688001202101068557 | C3: 5440100281 | D3: UCT230826027 | E3: UPL230827001 | F3: 6&7
A4: 28CDC4FD5885 | B4: 2149688001202009064904 | C4: 5440100281 | D4: UCT230826026 | E4: UPL230827001 | F4: 6&7
A5: 28CDC4FF00E9 | B5: 2149688001202101060126 | C5: 5440100281 | D5: UCT230826026 | E5: UPL230827001 | F5: 6&7
A6: 28CDC4FC3B60 | B6: 2149688001202005182801 | C6: 5440100281 | D6: UCT230826026 | E6: UPL230827001 | F6: 6&7
A7: 5C3A4533A8F7 | B7: 2149688001202005043093 | C7: 5440100281 | D7: UCT230826024 | E7: UPL230827001 | F7: 6&7
A8: 28CDC45CC5AB | B8: 2149688001202005100496 | C8: 5440100281 | D8: UCT230827004 | E8: UPL230827001 | F8: 6&7
A9: B4B5B6FF2C19 | B9: 2149688001202108083962 | C9: 5440100281 | D9: UCT230826026 | E9: UPL230827001 | F9: 6&7
A10: 5C3A45339605 | B10: 2149688001202005039746 | C10: 5440100281 | D10: UCT230826013 | E10: UPL230827001 | F10: 6&7
A11: D41B81FEC8FF | B11: 2149688001202101204327 | C11: 5440100281 | D11: UCT230826014 | E11: UPL230827001 | F11: 6&7
A12: 28CDC45CDC65 | B12: 2149688001202005102650 | C12: 5440100281 | D12: UCT230826014 | E12: UPL230827001 | F12: 6&7
A13: 28CDC4004D02 | B13: 2149688001202005068943 | C13: 5440100281 | D13: UCT230826013 | E13: UPL230827001 | F13: 6&7
... A1681: 5C3A45B43C28 | B1681: 2149688001202005051640 | C1681: 5440100281 | D1681: UCT230826026 | E1681: UPL230827001 | F1681: 6&7

Sheet Pallet 6-1680pcs
A1: SERIAL_NUMBER | B1: SHIPPING SN | C1: DN | D1: CARTON_NO | E1: PALLET_NO | F1: Lot#
A2: 1CBFC0125AB2 | B2: 2149688001202003078542 | C2: 5440100281 | D2: UCT231102001 | E2: UPL231102001 | F2: 6&7
A3: E86F38531385 | B3: 2149688001201909094582 | C3: 5440100281 | D3: UCT231102004 | E3: UPL231102001 | F3: 6&7
A4: E86F38533E91 | B4: 2149688001201909105053 | C4: 5440100281 | D4: UCT231102004 | E4: UPL231102001 | F4: 6&7
A5: 405BD8E2C4B3 | B5: 2149688001201909069414 | C5: 5440100281 | D5: UCT231102004 | E5: UPL231102001 | F5: 6&7
A6: 405BD8E2FD35 | B6: 2149688001201909084276 | C6: 5440100281 | D6: UCT231102001 | E6: UPL231102001 | F6: 6&7
A7: ACD5648A75F8 | B7: 2149688001201904013321 | C7: 5440100281 | D7: UCT231101049 | E7: UPL231102001 | F7: 6&7
A8: 405BD8AD0C3C | B8: 2149688001201909036732 | C8: 5440100281 | D8: UCT231102004 | E8: UPL231102001 | F8: 6&7
A9: E86F388B0054 | B9: 2149688001201909138491 | C9: 5440100281 | D9: UCT231101049 | E9: UPL231102001 | F9: 6&7
A10: 28CDC4FF762F | B10: 2149688001202101092415 | C10: 5440100281 | D10: UCT231102001 | E10: UPL231102001 | F10: 6&7
A11: D41B81FE4B17 | B11: 2149688001202101166566 | C11: 5440100281 | D11: UCT231102004 | E11: UPL231102001 | F11: 6&7
A12: 4CD577FF20E1 | B12: 2149688001202201010878 | C12: 5440100281 | D12: UCT231102003 | E12: UPL231102001 | F12: 6&7
A13: 38D57ADC45E8 | B13: 2149688001202201352873 | C13: 5440100281 | D13: UCT231102001 | E13: UPL231102001 | F13: 6&7
A14: 28CDC4FD0524 | B14: 2149688001202009043797 | C14: 5440100281 | D14: UCT231102003 | E14: UPL231102001 | F14: 6&7
A15: 402343CD0254 | B15: 2149688001201908026663 | C15: 5440100281 | D15: UCT231101036 | E15: UPL231102001 | F15: 10
A16: 405BD8E2F274 | B16: 2149688001201909078883 | C16: 5440100281 | D16: UCT231101036 | E16: UPL231102001 | F16: 10
A17: 402343E08769 | B17: 2149688001201908049102 | C17: 5440100281 | D17: UCT231101042 | E17: UPL231102001 | F17: 10
A18: 4023438BB592 | B18: 2149688001201908018281 | C18: 5440100281 | D18: UCT231101018 | E18: UPL231102001 | F18: 10
A19: 405BD86D3F83 | B19: 2149688001201909023625 | C19: 5440100281 | D19: UCT231101047 | E19: UPL231102001 | F19: 10
A20: 405BD8E2AF0E | B20: 2149688001201909068209 | C20: 5440100281 | D20: UCT231101044 | E20: UPL231102001 | F20: 10
A21: 402343E089EC | B21: 2149688001201908051858 | C21: 5440100281 | D21: UCT231101044 | E21: UPL231102001 | F21: 10
A22: 405BD824500F | B22: 2149688001201908072178 | C22: 5440100281 | D22: UCT231101046 | E22: UPL231102001 | F22: 10
A23: 1CBFC0567542 | B23: 2149688001202005004732 | C23: 5440100281 | D23: UCT231101044 | E23: UPL231102001 | F23: 10
A24: 405BD8246DEC | B24: 2149688001201908077430 | C24: 5440100281 | D24: UCT231101042 | E24: UPL231102001 | F24: 10
A25: 405BD8AD2084 | B25: 2149688001201909046883 | C25: 5440100281 | D25: UCT231101042 | E25: UPL231102001 | F25: 10
A26: D81265087E0F | B26: 2149688001202001053179 | C26: 5440100281 | D26: UCT231101042 | E26: UPL231102001 | F26: 10
... A1681: 28CDC4FE8620 | B1681: 2149688001202101028640 | C1681: 5440100281 | D1681: UCT231102001 | E1681: UPL231102001 | F1681: 10

Sheet Pallet 7-462pcs
A1: SERIAL_NUMBER | B1: SHIPPING SN | C1: DN | D1: CARTON_NO | E1: PALLET_NO | F1: Lot#
A2: 4CD577FEB7D3 | B2: 2149688001202108157222 | C2: 5440100281 | D2: UCT231010015 | E2: UPL231212008 | F2: 5
A3: 405BD86D4410 | B3: 2149688001201909022548 | C3: 5440100281 | D3: UCT231031046 | E3: UPL231212008 | F3: 10
A4: 8CC84BBD3071 | B4: 2149688001202003035710 | C4: 5440100281 | D4: UCT231031050 | E4: UPL231212008 | F4: 10
A5: 4023432A95E6 | B5: 2149688001201904050413 | C5: 5440100281 | D5: UCT231031044 | E5: UPL231212008 | F5: 10
A6: 405BD824796D | B6: 2149688001201908081041 | C6: 5440100281 | D6: UCT231031050 | E6: UPL231212008 | F6: 10
A7: 1CBFC056A000 | B7: 2149688001202005013424 | C7: 5440100281 | D7: UCT231031050 | E7: UPL231212008 | F7: 10
A8: E86F385324E5 | B8: 2149688001201909096450 | C8: 5440100281 | D8: UCT231031050 | E8: UPL231212008 | F8: 10
A9: 405BD8247DEE | B9: 2149688001201908082130 | C9: 5440100281 | D9: UCT231031050 | E9: UPL231212008 | F9: 10
A10: E86F388AFCB2 | B10: 2149688001201909134291 | C10: 5440100281 | D10: UCT231031050 | E10: UPL231212008 | F10: 10
A11: 405BD824965C | B11: 2149688001201908089850 | C11: 5440100281 | D11: UCT231031044 | E11: UPL231212008 | F11: 10
A12: 1CBFC0565F11 | B12: 2149688001202005002879 | C12: 5440100281 | D12: UCT231031050 | E12: UPL231212008 | F12: 10
A13: 1CBFC0565728 | B13: 2149688001202005001688 | C13: 5440100281 | D13: UCT231031050 | E13: UPL231212008 | F13: 10
... A463: 28CDC4FE0D0A | B463: 2149688001202009108119 | C463: 5440100281 | D463: UCT231010015 | E463: UPL231212008 | F463: 10

Sheet Pallet 8-1680pcs
A1: SERIAL_NUMBER | B1: SHIPPING SN | C1: DN | D1: CARTON_NO | E1: PALLET_NO | F1: Lot#
A2: 28CDC4FBA62E | B2: 2149688001202005142574 | C2: 5440100282 | D2: UCT231006008 | E2: UPL231006001 | F2: 4
A3: 28CDC4FD7B13 | B3: 2149688001202009074002 | C3: 5440100282 | D3: UCT231006024 | E3: UPL231006001 | F3: 5
A4: 28CDC45CC56B | B4: 2149688001202005102081 | C4: 5440100282 | D4: UCT231006025 | E4: UPL231006001 | F4: 5
A5: 405BD8E2B6EC | B5: 2149688001201909065897 | C5: 5440100282 | D5: UCT231005066 | E5: UPL231006001 | F5: 5
A6: E86F38534F38 | B6: 2149688001201909109408 | C6: 5440100282 | D6: UCT231005061 | E6: UPL231006001 | F6: 5
A7: E86F388AB643 | B7: 2149688001201909119561 | C7: 5440100282 | D7: UCT231005060 | E7: UPL231006001 | F7: 5
A8: 405BD8AD60B1 | B8: 2149688001201909058808 | C8: 5440100282 | D8: UCT231005060 | E8: UPL231006001 | F8: 5
A9: 4CEBBD1E192F | B9: 2149688001202001012638 | C9: 5440100282 | D9: UCT231005063 | E9: UPL231006001 | F9: 5
A10: 1CBFC0566F8E | B10: 2149688001202005007311 | C10: 5440100282 | D10: UCT231005061 | E10: UPL231006001 | F10: 5
A11: 4023438BC81C | B11: 2149688001201908022177 | C11: 5440100282 | D11: UCT231006015 | E11: UPL231006001 | F11: 5
A12: 405BD82441A6 | B12: 2149688001201908065189 | C12: 5440100282 | D12: UCT231005062 | E12: UPL231006001 | F12: 5
A13: 40234355E4E8 | B13: 2149688001201908000407 | C13: 5440100282 | D13: UCT231005060 | E13: UPL231006001 | F13: 5
A14: 405BD86D3186 | B14: 2149688001201909002368 | C14: 5440100282 | D14: UCT231005062 | E14: UPL231006001 | F14: 5
A15: 402343E0808D | B15: 2149688001201908050774 | C15: 5440100282 | D15: UCT231005058 | E15: UPL231006001 | F15: 6&7
A16: 8CC84B0AF2BC | B16: 2149688001202001109425 | C16: 5440100282 | D16: UCT231005057 | E16: UPL231006001 | F16: 6&7
A17: 4CEBBD1E61FD | B17: 2149688001202001019545 | C17: 5440100282 | D17: UCT231005059 | E17: UPL231006001 | F17: 6&7
A18: 8CC84B0B1412 | B18: 2149688001202001099190 | C18: 5440100282 | D18: UCT231005063 | E18: UPL231006001 | F18: 6&7
A19: 405BD8AD284D | B19: 2149688001201909051728 | C19: 5440100282 | D19: UCT231005058 | E19: UPL231006001 | F19: 6&7
A20: 4CEBBD1E2FDC | B20: 2149688001202001003059 | C20: 5440100282 | D20: UCT231006008 | E20: UPL231006001 | F20: 6&7
A21: 405BD8AD015E | B21: 2149688001201909033616 | C21: 5440100282 | D21: UCT231005064 | E21: UPL231006001 | F21: 6&7
A22: 4023432A59EA | B22: 2149688001201904034744 | C22: 5440100282 | D22: UCT231005057 | E22: UPL231006001 | F22: 6&7
A23: 4023438B96DD | B23: 2149688001201908013526 | C23: 5440100282 | D23: UCT231005068 | E23: UPL231006001 | F23: 6&7
A24: 405BD86D72A9 | B24: 2149688001201909026160 | C24: 5440100282 | D24: UCT231005065 | E24: UPL231006001 | F24: 6&7
A25: 8CC84B0B0103 | B25: 2149688001202001103760 | C25: 5440100282 | D25: UCT231005066 | E25: UPL231006001 | F25: 6&7
A26: 405BD8E2FBF6 | B26: 2149688001201909084306 | C26: 5440100282 | D26: UCT231005067 | E26: UPL231006001 | F26: 6&7
... A1681: 405BD86D43A0 | B1681: 2149688001201909019300 | C1681: 5440100282 | D1681: UCT231005058 | E1681: UPL231006001 | F1681: 6&7

Sheet Pallet 9-1680pcs
A1: SERIAL_NUMBER | B1: SHIPPING SN | C1: DN | D1: CARTON_NO | E1: PALLET_NO | F1: Lot#
A2: 5C3A45B43984 | B2: 2149688001202005050513 | C2: 5440100282 | D2: UCT231006049 | E2: UPL231008001 | F2: 5
A3: B4B5B6FE3656 | B3: 2149688001202108013532 | C3: 5440100282 | D3: UCT231006049 | E3: UPL231008001 | F3: 4
A4: 5C3A4533A0A0 | B4: 2149688001202005045473 | C4: 5440100282 | D4: UCT231006053 | E4: UPL231008001 | F4: 5
A5: D41B81FEF15D | B5: 2149688001202101210868 | C5: 5440100282 | D5: UCT231006037 | E5: UPL231008001 | F5: 5
A6: 28CDC4FF8D15 | B6: 2149688001202101096393 | C6: 5440100282 | D6: UCT231006049 | E6: UPL231008001 | F6: 5
A7: B4B5B6FDFBC5 | B7: 2149688001202108000765 | C7: 5440100282 | D7: UCT231006049 | E7: UPL231008001 | F7: 4
A8: 28CDC4FF2167 | B8: 2149688001202101073915 | C8: 5440100282 | D8: UCT231006049 | E8: UPL231008001 | F8: 5
A9: 405BD824635F | B9: 2149688001201908080969 | C9: 5440100282 | D9: UCT231006045 | E9: UPL231008001 | F9: 4
A10: 405BD8ACFA51 | B10: 2149688001201909032176 | C10: 5440100282 | D10: UCT231006040 | E10: UPL231008001 | F10: 5
A11: 405BD82481EF | B11: 2149688001201908084822 | C11: 5440100282 | D11: UCT231006037 | E11: UPL231008001 | F11: 4
A12: 402343E0B6BD | B12: 2149688001201908064883 | C12: 5440100282 | D12: UCT231006053 | E12: UPL231008001 | F12: 5
A13: 4CEBBD9C04FC | B13: 2149688001202001025665 | C13: 5440100282 | D13: UCT231006038 | E13: UPL231008001 | F13: 6&7
A14: 4023432A80BD | B14: 2149688001201904044683 | C14: 5440100282 | D14: UCT231006039 | E14: UPL231008001 | F14: 6&7
A15: 8CC84B4508B3 | B15: 2149688001202003029682 | C15: 5440100282 | D15: UCT231006038 | E15: UPL231008001 | F15: 6&7
A16: 8CC84BBD70E7 | B16: 2149688001202003043464 | C16: 5440100282 | D16: UCT231006038 | E16: UPL231008001 | F16: 6&7
A17: ACD5648A97C0 | B17: 2149688001201904021969 | C17: 5440100282 | D17: UCT231006039 | E17: UPL231008001 | F17: 6&7
A18: 405BD86D143D | B18: 2149688001201909013235 | C18: 5440100282 | D18: UCT231006038 | E18: UPL231008001 | F18: 6&7
A19: 402343CD38DE | B19: 2149688001201908036539 | C19: 5440100282 | D19: UCT231006039 | E19: UPL231008001 | F19: 6&7
A20: 4023438BCDC8 | B20: 2149688001201908021174 | C20: 5440100282 | D20: UCT231006038 | E20: UPL231008001 | F20: 6&7
A21: 4023432A5242 | B21: 2149688001201904032784 | C21: 5440100282 | D21: UCT231006039 | E21: UPL231008001 | F21: 6&7
A22: 4CEBBD9BFC53 | B22: 2149688001202001023060 | C22: 5440100282 | D22: UCT231006039 | E22: UPL231008001 | F22: 6&7
A23: 4CEBBD9C1116 | B23: 2149688001202001027796 | C23: 5440100282 | D23: UCT231006038 | E23: UPL231008001 | F23: 6&7
A24: E86F388AAC2A | B24: 2149688001201909115464 | C24: 5440100282 | D24: UCT231006042 | E24: UPL231008001 | F24: 6&7
... A1681: 4CEBBDB04A26 | B1681: 2149688001202001049552 | C1681: 5440100282 | D1681: UCT231006053 | E1681: UPL231008001 | F1681: 6&7

Sheet Pallet 10-989pcs
A1: SERIAL_NUMBER | B1: SHIPPING SN | C1: DN | D1: CARTON_NO | E1: PALLET_NO | F1: Lot#
A2: ACD5648A86D9 | B2: 2149688001201904017642 | C2: 5440100282 | D2: UCT231108002 | E2: UPL231212012 | F2: 5
A3: 1CBFC0123CDF | B3: 2149688001202003075350 | C3: 5440100282 | D3: UCT231103002 | E3: UPL231212012 | F3: 6&7
A4: 1CBFC0125B58 | B4: 2149688001202003077156 | C4: 5440100282 | D4: UCT231103002 | E4: UPL231212012 | F4: 6&7
A5: 1CBFC012247B | B5: 2149688001202003059911 | C5: 5440100282 | D5: UCT231103002 | E5: UPL231212012 | F5: 6&7
A6: E86F38532FD5 | B6: 2149688001201909098814 | C6: 5440100282 | D6: UCT231108002 | E6: UPL231212012 | F6: 6&7
A7: E86F38534FD9 | B7: 2149688001201909109197 | C7: 5440100282 | D7: UCT231107001 | E7: UPL231212012 | F7: 6&7
A8: 1CBFC012360C | B8: 2149688001202003066007 | C8: 5440100282 | D8: UCT231104001 | E8: UPL231212012 | F8: 6&7
A9: 1CBFC01255A9 | B9: 2149688001202003079642 | C9: 5440100282 | D9: UCT231108002 | E9: UPL231212012 | F9: 6&7
A10: 1CBFC0124CFE | B10: 2149688001202003070661 | C10: 5440100282 | D10: UCT231108002 | E10: UPL231212012 | F10: 6&7
A11: 1CBFC012078F | B11: 2149688001202003066990 | C11: 5440100282 | D11: UCT231108002 | E11: UPL231212012 | F11: 6&7
A12: E86F38531B9E | B12: 2149688001201909092324 | C12: 5440100282 | D12: UCT231103002 | E12: UPL231212012 | F12: 6&7
A13: 4023438BCC93 | B13: 2149688001201908020947 | C13: 5440100282 | D13: UCT231107001 | E13: UPL231212012 | F13: 6&7
A14: 402343E0B485 | B14: 2149688001201908063676 | C14: 5440100282 | D14: UCT231102008 | E14: UPL231212012 | F14: 6&7
... A116: 28CDC4FA7113 | B116: 2149688001202101112840 | C116: 5440100282 | D116: UCT231107001 | E116: UPL231212012 | F116: 6&7
A117: ACD5648AA9F4 | B117: 2149688001201904026629 | C117: 5440100282 | D117: UCT231102007 | E117: UPL231212012 | F117: 10
A118: ACD5648A7514 | B118: 2149688001201904013093 | C118: 5440100282 | D118: UCT231102006 | E118: UPL231212012 | F118: 10
A119: ACD5648A7698 | B119: 2149688001201904013481 | C119: 5440100282 | D119: UCT231102013 | E119: UPL231212012 | F119: 10
A120: ACD5648A95D7 | B120: 2149688001201904021480 | C120: 5440100282 | D120: UCT231102007 | E120: UPL231212012 | F120: 10
A121: ACD5648A90DE | B121: 2149688001201904020207 | C121: 5440100282 | D121: UCT231102020 | E121: UPL231212012 | F121: 10
A122: ACD5648A69C5 | B122: 2149688001201904010198 | C122: 5440100282 | D122: UCT231102006 | E122: UPL231212012 | F122: 10
A123: ACD5648A9423 | B123: 2149688001201904021044 | C123: 5440100282 | D123: UCT231102012 | E123: UPL231212012 | F123: 10
A124: ACD5648A9945 | B124: 2149688001201904022358 | C124: 5440100282 | D124: UCT231102015 | E124: UPL231212012 | F124: 10
A125: B068E6C30E44 | B125: 2149688001201904003962 | C125: 5440100282 | D125: UCT231102012 | E125: UPL231212012 | F125: 10
A126: ACD5648AAAF5 | B126: 2149688001201904026886 | C126: 5440100282 | D126: UCT231102012 | E126: UPL231212012 | F126: 10
A127: B068E6C315BA | B127: 2149688001201904005872 | C127: 5440100282 | D127: UCT231102012 | E127: UPL231212012 | F127: 10
A128: ACD5648A699A | B128: 2149688001201904010155 | C128: 5440100282 | D128: UCT231102012 | E128: UPL231212012 | F128: 10
... A990: 28CDC4FC2C2D | B990: 2149688001202005171824 | C990: 5440100282 | D990: UCT231107001 | E990: UPL231212012 | F990: 10
